BEGIN:VCALENDAR
VERSION:2.0
PRODID:-//Tukios.com/
BEGIN:VEVENT
UID:6434956c-4b3b-4f07-b11e-d4dfc4d1d7e5@www.demarcostonefuneralhome.com
DTSTAMP:20260425T194025Z
DTSTART:20260501T150000Z
DTEND:20260501T160000Z
SUMMARY:Funeral Mass
DESCRIPTION:
URL:https://www.demarcostonefuneralhome.com/obituaries/sharon-neri
LOCATION:St. Madeleine Sophie Church 3500 Carman Road  Schenectady NY 
	12303
GEO:42.7423257;-73.9442541
END:VEVENT
END:VCALENDAR