BEGIN:VCALENDAR
VERSION:2.0
PRODID:-//Tukios.com/
BEGIN:VEVENT
UID:5090349a-278a-42e1-a347-828231bff783@www.demarcostonefuneralhome.com
DTSTAMP:20260425T194409Z
DTSTART:20260501T140000Z
DTEND:20260501T150000Z
SUMMARY:Visitation
DESCRIPTION:
URL:https://www.demarcostonefuneralhome.com/obituaries/sharon-neri
LOCATION:St. Madeleine Sophie Church 3500 Carman Road  Schenectady NY 
	12303
GEO:42.7423257;-73.9442541
END:VEVENT
END:VCALENDAR