BEGIN:VCALENDAR
VERSION:2.0
PRODID:-//Tukios.com/
BEGIN:VEVENT
UID:ea1ea70c-0255-4a71-80ea-fdcfe68c6c75@www.demarcostonefuneralhome.com
DTSTAMP:20260423T205255Z
DTSTART:20260501T180000Z
DTEND:20260501T190000Z
SUMMARY:Prayer Service
DESCRIPTION:
URL:https://www.demarcostonefuneralhome.com/obituaries/damase-st-lawrence
LOCATION:DeMarco-Stone Funeral Home 1605 Helderberg Avenue  Rotterdam NY 
	12306
GEO:42.7855877;-73.9593528
END:VEVENT
END:VCALENDAR