BEGIN:VCALENDAR
VERSION:2.0
PRODID:-//Tukios.com/
BEGIN:VEVENT
UID:d386a489-99c5-48a4-9941-e424f9059385@www.demarcostonefuneralhome.com
DTSTAMP:20260423T205438Z
DTSTART:20260501T160000Z
DTEND:20260501T180000Z
SUMMARY:Visitation
DESCRIPTION:
URL:https://www.demarcostonefuneralhome.com/obituaries/damase-st-lawrence
LOCATION:DeMarco-Stone Funeral Home 1605 Helderberg Avenue  Rotterdam NY 
	12306
GEO:42.7855877;-73.9593528
END:VEVENT
END:VCALENDAR